BEGIN:VCALENDAR
VERSION:2.0
PRODID:spatie/icalendar-generator
DESCRIPTION:Events from Professional Standards Board
X-WR-CALDESC:Events from Professional Standards Board
REFRESH-INTERVAL;VALUE=DURATION:PT1440M
X-PUBLISHED-TTL:PT1440M
BEGIN:VTIMEZONE
TZID:America/Toronto
BEGIN:DAYLIGHT
DTSTART:20240310T020000Z
TZOFFSETFROM:-0500
TZOFFSETTO:-0400
END:DAYLIGHT
BEGIN:STANDARD
DTSTART:20241103T020000Z
TZOFFSETFROM:-0400
TZOFFSETTO:-0500
END:STANDARD
END:VTIMEZONE
BEGIN:VTIMEZONE
TZID:UTC
BEGIN:STANDARD
DTSTART:20250725T095845Z
TZOFFSETFROM:+0000
TZOFFSETTO:+0000
END:STANDARD
END:VTIMEZONE
BEGIN:VEVENT
UID:46-30
DTSTAMP:20260421T095845Z
SUMMARY:Webinaire de préparation aux examens
LOCATION:
ORGANIZER;CN=PSB:MAILTO:certification@psb-planningcanada.ca
DTSTART;TZID=America/Toronto:20240814T120000
DTEND;TZID=America/Toronto:20240814T130000
X-ALT-DESC;FMTTYPE=TEXT/HTML:Inscrivez-vous ici: https://us02web.zoom.us/we
 binar/register/WN_PxuDL4R6QWac5RcC73lFrQ
CATEGORIES:English
URL;VALUE=URI:https://psb-planningcanada.ca/mc-events/webinaire-de-preparat
 ion-aux-examens-2/
METHOD:PUBLISH
END:VEVENT
END:VCALENDAR